BEGIN:VCALENDAR
VERSION:2.0
PRODID:-//Sri Lanka Students Association in Japan - ECPv5.8.2//NONSGML v1.0//EN
CALSCALE:GREGORIAN
METHOD:PUBLISH
X-WR-CALNAME:Sri Lanka Students Association in Japan
X-ORIGINAL-URL:https://slsaj.com
X-WR-CALDESC:Events for Sri Lanka Students Association in Japan
BEGIN:VTIMEZONE
TZID:Europe/London
BEGIN:DAYLIGHT
TZOFFSETFROM:+0000
TZOFFSETTO:+0100
TZNAME:BST
DTSTART:20230326T010000
END:DAYLIGHT
BEGIN:STANDARD
TZOFFSETFROM:+0100
TZOFFSETTO:+0000
TZNAME:GMT
DTSTART:20231029T010000
END:STANDARD
END:VTIMEZONE
BEGIN:VEVENT
DTSTART;VALUE=DATE:20230611
DTEND;VALUE=DATE:20230612
DTSTAMP:20260424T134237
CREATED:20230615T113654Z
LAST-MODIFIED:20230615T113654Z
UID:13908-1686441600-1686527999@slsaj.com
SUMMARY:Poson Program 2023
DESCRIPTION:  \nSri Lanka Students’ Association in Japan (SLSAJ) successfully conducted the Poson pinkama 2023 with Shoshanji Sri Lankan Temple\, Hachioji\, Tokyo on 11th June 2023. The program commenced at 8.30 a.m with Sil observing program. Afterward\, several religious activities were carried out. The event concluded with the presentation of the Digital Torana and recitation of Devotional songs (Bakthi gee) by SLSAJ members and participants from 5.30 p.m. onwards. We extend our gratitude to Shoshanji Sri Lankan Temple\, the participants\, and the members of SLSAJ for their valuable support in the successful organization of this event.
URL:https://slsaj.com/event/poson-program-2023/
CATEGORIES:General
ATTACH;FMTTYPE=image/jpeg:https://slsaj.com/wp-content/uploads/2023/06/353450686_707293727865979_8487339879885001626_n-1.jpg
END:VEVENT
END:VCALENDAR