BEGIN:VCALENDAR
VERSION:2.0
PRODID:-//Sri Lanka Students Association in Japan - ECPv5.8.2//NONSGML v1.0//EN
CALSCALE:GREGORIAN
METHOD:PUBLISH
X-WR-CALNAME:Sri Lanka Students Association in Japan
X-ORIGINAL-URL:https://slsaj.com
X-WR-CALDESC:Events for Sri Lanka Students Association in Japan
BEGIN:VTIMEZONE
TZID:Europe/London
BEGIN:DAYLIGHT
TZOFFSETFROM:+0000
TZOFFSETTO:+0100
TZNAME:BST
DTSTART:20230326T010000
END:DAYLIGHT
BEGIN:STANDARD
TZOFFSETFROM:+0100
TZOFFSETTO:+0000
TZNAME:GMT
DTSTART:20231029T010000
END:STANDARD
END:VTIMEZONE
BEGIN:VEVENT
DTSTART;TZID=Europe/London:20230416T080000
DTEND;TZID=Europe/London:20230416T170000
DTSTAMP:20260424T171802
CREATED:20230708T024011Z
LAST-MODIFIED:20230708T024352Z
UID:13972-1681632000-1681664400@slsaj.com
SUMMARY:SLSAJ Coordination in the Sri Lankan New Year Festival (April 2023)
DESCRIPTION:After a long hiatus of 4 years\, the Sinhala and Tamil New Year Festival in Japan 2023 was successfully held in Saitama on the 16th of April\, with active participation from the large Sri Lankan community residing in Japan. All the events organized during the festival witnessed enthusiastic participation\, and awards were presented to the winners. The day concluded with a musical show. Sri Lanka Students’ Association in Japan would like to express our special thanks to the Sri Lankan Embassy in Japan\, sponsors\, all the Sri Lankan voluntary associations in Japan\, and the Sri Lankan community who contributed to the success of this New Year Festival. \n   \n  
URL:https://slsaj.com/event/slsaj-coordination-in-the-sri-lankan-new-year-festival-april-2023/
CATEGORIES:General
ATTACH;FMTTYPE=image/jpeg:https://slsaj.com/wp-content/uploads/2023/07/342419254_543181141316043_3810818102593366341_n.jpg
END:VEVENT
END:VCALENDAR