BEGIN:VCALENDAR
VERSION:2.0
PRODID:-//Sri Lanka Students Association in Japan - ECPv5.8.2//NONSGML v1.0//EN
CALSCALE:GREGORIAN
METHOD:PUBLISH
X-WR-CALNAME:Sri Lanka Students Association in Japan
X-ORIGINAL-URL:https://slsaj.com
X-WR-CALDESC:Events for Sri Lanka Students Association in Japan
BEGIN:VTIMEZONE
TZID:Europe/London
BEGIN:DAYLIGHT
TZOFFSETFROM:+0000
TZOFFSETTO:+0100
TZNAME:BST
DTSTART:20210328T010000
END:DAYLIGHT
BEGIN:STANDARD
TZOFFSETFROM:+0100
TZOFFSETTO:+0000
TZNAME:GMT
DTSTART:20211031T010000
END:STANDARD
END:VTIMEZONE
BEGIN:VEVENT
DTSTART;TZID=Europe/London:20211211T080000
DTEND;TZID=Europe/London:20211211T170000
DTSTAMP:20260425T152258
CREATED:20211124T021328Z
LAST-MODIFIED:20241222T134712Z
UID:13244-1639209600-1639242000@slsaj.com
SUMMARY:Annual Research Conference SLSAJARC 2021
DESCRIPTION:Sri Lanka Students’ Association in Japan and Sri Lanka Academics’ Association in Japan are pleased to announce that this year’s conference (SLSAJARC – 2021) will be jointly organized and held on 11th December\, 2021 under the theme “Towards Resolute Global Environs from the Opportunities of Crisis”. The worldwide and nationwide travel restrictions imposed by governments to prevent the spread of COVID-19 has put more limitations on organizing a conference in the traditional format allowing face-to-face interactions among researchers. However\, in an attempt to not be discouraged and to turn the unexpected turn of events to a positive outcome\, this year’s SLSAJARC – 2021 will be held as a virtual conference connecting students\, researchers and academics from around the world.
URL:https://slsaj.com/event/annual-research-confernace-slsajarc-2021/
CATEGORIES:SLSAJARC
ATTACH;FMTTYPE=image/jpeg:https://slsaj.com/wp-content/uploads/2021/11/Annual-Research-Confernace-SLSAJARC-2021.jpeg
END:VEVENT
END:VCALENDAR